BEGIN:VCALENDAR
VERSION:2.0
PRODID:www.hss.de
X-PUBLISHED-TTL:P1W
BEGIN:VEVENT
UID:69e5c0b7497f5
DTSTART:20240301T150000Z
SEQUENCE:0
TRANSP:OPAQUE
DTEND:20240301T190000Z
LOCATION:München
SUMMARY:Tag der Archive 2024
CLASS:PUBLIC
DESCRIPTION:Veranstaltung: https://www.hss.de/veranstaltungen/tag-der-archi
 ve-2024-3240209002/\nMeine Veranstaltungen: https://www.hss.de/meine-veran
 staltungen/
DTSTAMP:20260420T055919Z
END:VEVENT
END:VCALENDAR