BEGIN:VCALENDAR
VERSION:2.0
PRODID:www.hss.de
X-PUBLISHED-TTL:P1W
BEGIN:VEVENT
UID:69e6e38eef724
DTSTART:20250328T163000Z
SEQUENCE:0
TRANSP:OPAQUE
DTEND:20250330T110000Z
LOCATION:Bad Staffelstein
SUMMARY:Teambildung
CLASS:PUBLIC
DESCRIPTION:Veranstaltung: https://www.hss.de/veranstaltungen/teambildung-3
 250301506/\nMeine Veranstaltungen: https://www.hss.de/meine-veranstaltunge
 n/
DTSTAMP:20260421T024015Z
END:VEVENT
END:VCALENDAR