BEGIN:VCALENDAR
VERSION:2.0
PRODID:www.hss.de
X-PUBLISHED-TTL:P1W
BEGIN:VEVENT
UID:69e6178107f62
DTSTART:20221007T170000Z
SEQUENCE:0
TRANSP:OPAQUE
DTEND:20221009T100000Z
LOCATION:Bad Staffelstein
SUMMARY:Themen einer älter werdenden Gesellschaft
CLASS:PUBLIC
DESCRIPTION:Veranstaltung: https://www.hss.de/veranstaltungen/themen-einer-
 aelter-werdenden-gesellschaft-3220302015/\nMeine Veranstaltungen: https://
 www.hss.de/meine-veranstaltungen/
DTSTAMP:20260420T120937Z
END:VEVENT
END:VCALENDAR