BEGIN:VCALENDAR
VERSION:2.0
PRODID:www.hss.de
X-PUBLISHED-TTL:P1W
BEGIN:VEVENT
UID:69e8d612737e5
DTSTART:20250529T153000Z
SEQUENCE:0
TRANSP:OPAQUE
DTEND:20250601T113000Z
LOCATION:Bad Staffelstein
SUMMARY:TV Hauptakademie - wir produzieren eine Magazinsendung
CLASS:PUBLIC
DESCRIPTION:Veranstaltung: https://www.hss.de/veranstaltungen/tv-hauptakade
 mie-wir-produzieren-eine-magazinsendung-3250407007/\nMeine Veranstaltungen
 : https://www.hss.de/meine-veranstaltungen/
DTSTAMP:20260422T140714Z
END:VEVENT
END:VCALENDAR