BEGIN:VCALENDAR
VERSION:2.0
PRODID:www.hss.de
X-PUBLISHED-TTL:P1W
BEGIN:VEVENT
UID:69e9e8a3e65b9
DTSTART:20250717T150000Z
SEQUENCE:0
TRANSP:OPAQUE
DTEND:20250717T180000Z
LOCATION:München
SUMMARY:Veranstaltung zur Agrarpolitik: Buchvorstellung \"Unsere Landwirtsc
 haft besser verstehen\" von  Dr. Hermann Onko Aeikens
CLASS:PUBLIC
DESCRIPTION:Veranstaltung: https://www.hss.de/veranstaltungen/veranstaltung
 -zur-agrarpolitik-buchvorstellung-unsere-landwirtschaft-besser-verstehen-v
 on-dr-hermann-onko-aeikens-3250308074/\nMeine Veranstaltungen: https://www
 .hss.de/meine-veranstaltungen/
DTSTAMP:20260423T093844Z
END:VEVENT
END:VCALENDAR