BEGIN:VCALENDAR
VERSION:2.0
PRODID:www.hss.de
X-PUBLISHED-TTL:P1W
BEGIN:VEVENT
UID:69e546e997d86
DTSTART:20240628T170000Z
SEQUENCE:0
TRANSP:OPAQUE
DTEND:20240630T100000Z
LOCATION:Utting am Ammersee
SUMMARY:Vereinsführerschein
CLASS:PUBLIC
DESCRIPTION:Veranstaltung: https://www.hss.de/veranstaltungen/vereinsfuehre
 rschein-3240307811/\nMeine Veranstaltungen: https://www.hss.de/meine-veran
 staltungen/
DTSTAMP:20260419T211938Z
END:VEVENT
END:VCALENDAR