BEGIN:VCALENDAR
VERSION:2.0
PRODID:www.hss.de
X-PUBLISHED-TTL:P1W
BEGIN:VEVENT
UID:69e7198bd7af6
DTSTART:20230714T153000Z
SEQUENCE:0
TRANSP:OPAQUE
DTEND:20230716T110000Z
LOCATION:Bad Staffelstein
SUMMARY:Verschwörungserzählungen und Fake News als Teil der hybriden Krie
 gsführung
CLASS:PUBLIC
DESCRIPTION:Veranstaltung: https://www.hss.de/veranstaltungen/verschwoerung
 serzaehlungen-und-fake-news-als-teil-der-hybriden-kriegsfuehrung-323030110
 0/\nMeine Veranstaltungen: https://www.hss.de/meine-veranstaltungen/
DTSTAMP:20260421T063035Z
END:VEVENT
END:VCALENDAR