BEGIN:VCALENDAR
VERSION:2.0
PRODID:www.hss.de
X-PUBLISHED-TTL:P1W
BEGIN:VEVENT
UID:69e5476cb6c6a
DTSTART:20260318T143000Z
SEQUENCE:0
TRANSP:OPAQUE
DTEND:20260318T163000Z
LOCATION:Augsburg
SUMMARY:Vom Dorf bis zur Großstadt
CLASS:PUBLIC
DESCRIPTION:Veranstaltung: https://www.hss.de/veranstaltungen/vom-dorf-bis-
 zur-grossstadt-3260309051/\nMeine Veranstaltungen: https://www.hss.de/mein
 e-veranstaltungen/
DTSTAMP:20260419T212148Z
END:VEVENT
END:VCALENDAR