BEGIN:VCALENDAR
VERSION:2.0
PRODID:www.hss.de
X-PUBLISHED-TTL:P1W
BEGIN:VEVENT
UID:69ea306bb173a
DTSTART:20250709T160000Z
SEQUENCE:0
TRANSP:OPAQUE
DTEND:20250709T180000Z
LOCATION:HSSdigital
SUMMARY:Vom Krieg zur Kunst: Wie Popkultur den Vietnamkrieg verarbeitete
CLASS:PUBLIC
DESCRIPTION:Veranstaltung: https://www.hss.de/veranstaltungen/vom-krieg-zur
 -kunst-wie-popkultur-den-vietnamkrieg-verarbeitete-3250303342/\nMeine Vera
 nstaltungen: https://www.hss.de/meine-veranstaltungen/
DTSTAMP:20260423T144459Z
END:VEVENT
END:VCALENDAR