BEGIN:VCALENDAR
VERSION:2.0
PRODID:www.hss.de
X-PUBLISHED-TTL:P1W
BEGIN:VEVENT
UID:69e4e7c6f364b
DTSTART:20260624T080000Z
SEQUENCE:0
TRANSP:OPAQUE
DTEND:20260624T100000Z
LOCATION:München
SUMMARY:Vom Protest zur Eskalation - Ein Blick in die Islamische Republik I
 ran
CLASS:PUBLIC
DESCRIPTION:Veranstaltung: https://www.hss.de/veranstaltungen/vom-protest-z
 ur-eskalation-ein-blick-in-die-islamische-republik-iran-3260303204/\nMeine
  Veranstaltungen: https://www.hss.de/meine-veranstaltungen/
DTSTAMP:20260419T143343Z
END:VEVENT
END:VCALENDAR