BEGIN:VCALENDAR
VERSION:2.0
PRODID:www.hss.de
X-PUBLISHED-TTL:P1W
BEGIN:VEVENT
UID:69e8971029311
DTSTART:20260824T160000Z
SEQUENCE:0
TRANSP:OPAQUE
DTEND:20260824T173000Z
LOCATION:HSSdigital
SUMMARY:Vom SEO zu GEO - Was die KI-Suche für uns verändert
CLASS:PUBLIC
DESCRIPTION:Veranstaltung: https://www.hss.de/veranstaltungen/vom-seo-zu-ge
 o-was-die-ki-suche-fuer-uns-veraendert-3260301548/\nMeine Veranstaltungen:
  https://www.hss.de/meine-veranstaltungen/
DTSTAMP:20260422T093824Z
END:VEVENT
END:VCALENDAR