BEGIN:VCALENDAR
VERSION:2.0
PRODID:www.hss.de
X-PUBLISHED-TTL:P1W
BEGIN:VEVENT
UID:69e8d3c3bef31
DTSTART:20251117T160000Z
SEQUENCE:0
TRANSP:OPAQUE
DTEND:20251119T120000Z
LOCATION:Bad Staffelstein
SUMMARY:Von Judenfeindschaft bis Judenhass: Zum Ideenreservoir des Antisemi
 tismus einst und heute
CLASS:PUBLIC
DESCRIPTION:Veranstaltung: https://www.hss.de/veranstaltungen/von-judenfein
 dschaft-bis-judenhass-zum-ideenreservoir-des-antisemitismus-einst-und-heut
 e-3250303010/\nMeine Veranstaltungen: https://www.hss.de/meine-veranstaltu
 ngen/
DTSTAMP:20260422T135723Z
END:VEVENT
END:VCALENDAR