BEGIN:VCALENDAR
VERSION:2.0
PRODID:www.hss.de
X-PUBLISHED-TTL:P1W
BEGIN:VEVENT
UID:69e5c8b876805
DTSTART:20260613T073000Z
SEQUENCE:0
TRANSP:OPAQUE
DTEND:20260613T123000Z
LOCATION:Würzburg
SUMMARY:Was können wir aus Wirtschaftskrise für den Wohlstand von morgen 
 lernen? 
CLASS:PUBLIC
DESCRIPTION:Veranstaltung: https://www.hss.de/veranstaltungen/was-koennen-w
 ir-aus-wirtschaftskrise-fuer-den-wohlstand-von-morgen-lernen-3260302508/\n
 Meine Veranstaltungen: https://www.hss.de/meine-veranstaltungen/
DTSTAMP:20260420T063328Z
END:VEVENT
END:VCALENDAR