BEGIN:VCALENDAR
VERSION:2.0
PRODID:www.hss.de
X-PUBLISHED-TTL:P1W
BEGIN:VEVENT
UID:69e530a57d2a3
DTSTART:20260624T160000Z
SEQUENCE:0
TRANSP:OPAQUE
DTEND:20260624T160000Z
LOCATION:HSSdigital
SUMMARY:Wehrlos\, gespalten\, dekadent: Der Westen in den Augen seiner Fein
 de
CLASS:PUBLIC
DESCRIPTION:Veranstaltung: https://www.hss.de/veranstaltungen/wehrlos-gespa
 lten-dekadent-der-westen-in-den-augen-seiner-feinde-3260303308/\nMeine Ver
 anstaltungen: https://www.hss.de/meine-veranstaltungen/
DTSTAMP:20260419T194437Z
END:VEVENT
END:VCALENDAR