BEGIN:VCALENDAR
VERSION:2.0
PRODID:www.hss.de
X-PUBLISHED-TTL:P1W
BEGIN:VEVENT
UID:69e9273d49622
DTSTART:20251125T173000Z
SEQUENCE:0
TRANSP:OPAQUE
DTEND:20251125T185000Z
LOCATION:HSSdigital
SUMMARY:Wenn das Leben belastet? Konflikte lösen\, Sinn finden\, Gesundhei
 t stärken
CLASS:PUBLIC
DESCRIPTION:Veranstaltung: https://www.hss.de/veranstaltungen/wenn-das-lebe
 n-belastet-konflikte-loesen-sinn-finden-gesundheit-staerken-3250302894/\nM
 eine Veranstaltungen: https://www.hss.de/meine-veranstaltungen/
DTSTAMP:20260422T195333Z
END:VEVENT
END:VCALENDAR