BEGIN:VCALENDAR
VERSION:2.0
PRODID:www.hss.de
X-PUBLISHED-TTL:P1W
BEGIN:VEVENT
UID:69e92548769b1
DTSTART:20260306T170000Z
SEQUENCE:0
TRANSP:OPAQUE
DTEND:20260308T130000Z
LOCATION:Bad Staffelstein
SUMMARY:Wenn einfache Antworten gefährlich werden. Extremismus\, Weltansch
 auungen und der Kampf um Demokratie
CLASS:PUBLIC
DESCRIPTION:Veranstaltung: https://www.hss.de/veranstaltungen/wenn-einfache
 -antworten-gefaehrlich-werden-extremismus-weltanschauungen-und-der-kampf-u
 m-demokratie-3260303003/\nMeine Veranstaltungen: https://www.hss.de/meine-
 veranstaltungen/
DTSTAMP:20260422T194512Z
END:VEVENT
END:VCALENDAR