BEGIN:VCALENDAR
VERSION:2.0
PRODID:www.hss.de
X-PUBLISHED-TTL:P1W
BEGIN:VEVENT
UID:69e5ccce845a8
DTSTART:20230427T133000Z
SEQUENCE:0
TRANSP:OPAQUE
DTEND:20230427T153000Z
LOCATION:Traunstein
SUMMARY:Wer soll kommen\, wer darf bleiben?
CLASS:PUBLIC
DESCRIPTION:Veranstaltung: https://www.hss.de/veranstaltungen/wer-soll-komm
 en-wer-darf-bleiben-3230309135/\nMeine Veranstaltungen: https://www.hss.de
 /meine-veranstaltungen/
DTSTAMP:20260420T065054Z
END:VEVENT
END:VCALENDAR