BEGIN:VCALENDAR
VERSION:2.0
PRODID:www.hss.de
X-PUBLISHED-TTL:P1W
BEGIN:VEVENT
UID:69ece55e4aca9
DTSTART:20260626T153000Z
SEQUENCE:0
TRANSP:OPAQUE
DTEND:20260628T110000Z
LOCATION:Bad Staffelstein
SUMMARY:Werbung im Wandel
CLASS:PUBLIC
DESCRIPTION:Veranstaltung: https://www.hss.de/veranstaltungen/werbung-im-wa
 ndel-3260301108/\nMeine Veranstaltungen: https://www.hss.de/meine-veransta
 ltungen/
DTSTAMP:20260425T160134Z
END:VEVENT
END:VCALENDAR