BEGIN:VCALENDAR
VERSION:2.0
PRODID:www.hss.de
X-PUBLISHED-TTL:P1W
BEGIN:VEVENT
UID:69e618abc2e1a
DTSTART:20241111T170000Z
SEQUENCE:0
TRANSP:OPAQUE
DTEND:20241111T190000Z
LOCATION:HSSdigital
SUMMARY:Wie frei bin ich und wenn ja: Woran merkt man es? Eine Einführung 
 in das Werk von Michel Foucault
CLASS:PUBLIC
DESCRIPTION:Veranstaltung: https://www.hss.de/veranstaltungen/wie-frei-bin-
 ich-und-wenn-ja-woran-merkt-man-es-eine-einfuehrung-in-das-werk-von-michel
 -foucault-3240303341/\nMeine Veranstaltungen: https://www.hss.de/meine-ver
 anstaltungen/
DTSTAMP:20260420T121436Z
END:VEVENT
END:VCALENDAR