BEGIN:VCALENDAR
VERSION:2.0
PRODID:www.hss.de
X-PUBLISHED-TTL:P1W
BEGIN:VEVENT
UID:69e90cc90cc00
DTSTART:20240910T140000Z
SEQUENCE:0
TRANSP:OPAQUE
DTEND:20240910T183000Z
LOCATION:München
SUMMARY:Wie viel Religion braucht die Demokratie?
CLASS:PUBLIC
DESCRIPTION:Veranstaltung: https://www.hss.de/veranstaltungen/wie-viel-reli
 gion-braucht-die-demokratie-3240208004/\nMeine Veranstaltungen: https://ww
 w.hss.de/meine-veranstaltungen/
DTSTAMP:20260422T180041Z
END:VEVENT
END:VCALENDAR