BEGIN:VCALENDAR
VERSION:2.0
PRODID:www.hss.de
X-PUBLISHED-TTL:P1W
BEGIN:VEVENT
UID:69e8219df3303
DTSTART:20260423T181500Z
SEQUENCE:0
TRANSP:OPAQUE
DTEND:20260423T194500Z
LOCATION:HSSdigital
SUMMARY:Wirtschaftskrisen und Zukunft
CLASS:PUBLIC
DESCRIPTION:Veranstaltung: https://www.hss.de/veranstaltungen/wirtschaftskr
 isen-und-zukunft-3260302831/\nMeine Veranstaltungen: https://www.hss.de/me
 ine-veranstaltungen/
DTSTAMP:20260422T011718Z
END:VEVENT
END:VCALENDAR