BEGIN:VCALENDAR
VERSION:2.0
PRODID:www.hss.de
X-PUBLISHED-TTL:P1W
BEGIN:VEVENT
UID:69e591676e74a
DTSTART:20260429T160000Z
SEQUENCE:0
TRANSP:OPAQUE
DTEND:20260429T180000Z
LOCATION:HSSdigital
SUMMARY:Wohin steuert Europa - Ewig' Einigkeit oder Zerrissenheit?\" 
CLASS:PUBLIC
DESCRIPTION:Veranstaltung: https://www.hss.de/veranstaltungen/wohin-steuert
 -europa-ewig-einigkeit-oder-zerrissenheit-3260303306/\nMeine Veranstaltung
 en: https://www.hss.de/meine-veranstaltungen/
DTSTAMP:20260420T023727Z
END:VEVENT
END:VCALENDAR