BEGIN:VCALENDAR
VERSION:2.0
PRODID:www.hss.de
X-PUBLISHED-TTL:P1W
BEGIN:VEVENT
UID:69e4f5a215c13
DTSTART:20251129T090000Z
SEQUENCE:0
TRANSP:OPAQUE
DTEND:20251129T120000Z
LOCATION:HSSdigital
SUMMARY:Workshop: Antidemokratische Parolen und Strategien in kommunalen Gr
 emien - was tun?
CLASS:PUBLIC
DESCRIPTION:Veranstaltung: https://www.hss.de/veranstaltungen/workshop-anti
 demokratische-parolen-und-strategien-in-kommunalen-gremien-was-tun-3250307
 668/\nMeine Veranstaltungen: https://www.hss.de/meine-veranstaltungen/
DTSTAMP:20260419T153250Z
END:VEVENT
END:VCALENDAR