BEGIN:VCALENDAR
VERSION:2.0
PRODID:www.hss.de
X-PUBLISHED-TTL:P1W
BEGIN:VEVENT
UID:69e8118db4b29
DTSTART:20240607T170000Z
SEQUENCE:0
TRANSP:OPAQUE
DTEND:20240607T180000Z
LOCATION:HSSdigital
SUMMARY:Y- wie Yuan. Die EU-China-Beziehungen
CLASS:PUBLIC
DESCRIPTION:Veranstaltung: https://www.hss.de/veranstaltungen/y-wie-yuan-di
 e-eu-china-beziehungen-3240300225/\nMeine Veranstaltungen: https://www.hss
 .de/meine-veranstaltungen/
DTSTAMP:20260422T000845Z
END:VEVENT
END:VCALENDAR