BEGIN:VCALENDAR
VERSION:2.0
PRODID:www.hss.de
X-PUBLISHED-TTL:P1W
BEGIN:VEVENT
UID:69e83f3376d12
DTSTART:20240606T170000Z
SEQUENCE:0
TRANSP:OPAQUE
DTEND:20240606T180000Z
LOCATION:HSSdigital
SUMMARY:Z - wie Zukunft der EU
CLASS:PUBLIC
DESCRIPTION:Veranstaltung: https://www.hss.de/veranstaltungen/z-wie-zukunft
 -der-eu-3240300226/\nMeine Veranstaltungen: https://www.hss.de/meine-veran
 staltungen/
DTSTAMP:20260422T032331Z
END:VEVENT
END:VCALENDAR