BEGIN:VCALENDAR
VERSION:2.0
PRODID:www.hss.de
X-PUBLISHED-TTL:P1W
BEGIN:VEVENT
UID:69e5cf3450887
DTSTART:20261023T153000Z
SEQUENCE:0
TRANSP:OPAQUE
DTEND:20261025T120000Z
LOCATION:Bad Staffelstein
SUMMARY:Zeitgeschichte
CLASS:PUBLIC
DESCRIPTION:Veranstaltung: https://www.hss.de/veranstaltungen/zeitgeschicht
 e-3260305307/\nMeine Veranstaltungen: https://www.hss.de/meine-veranstaltu
 ngen/
DTSTAMP:20260420T070108Z
END:VEVENT
END:VCALENDAR