BEGIN:VCALENDAR
VERSION:2.0
PRODID:www.hss.de
X-PUBLISHED-TTL:P1W
BEGIN:VEVENT
UID:69e8f1770bdbc
DTSTART:20240628T153000Z
SEQUENCE:0
TRANSP:OPAQUE
DTEND:20240630T110000Z
LOCATION:Bad Staffelstein
SUMMARY:Zukunft der Mobilität
CLASS:PUBLIC
DESCRIPTION:Veranstaltung: https://www.hss.de/veranstaltungen/zukunft-der-m
 obilitaet-3240301114/\nMeine Veranstaltungen: https://www.hss.de/meine-ver
 anstaltungen/
DTSTAMP:20260422T160407Z
END:VEVENT
END:VCALENDAR