BEGIN:VCALENDAR
VERSION:2.0
PRODID:www.hss.de
X-PUBLISHED-TTL:P1W
BEGIN:VEVENT
UID:69ea7d84d8437
DTSTART:20250905T153000Z
SEQUENCE:0
TRANSP:OPAQUE
DTEND:20250907T110000Z
LOCATION:Bad Staffelstein
SUMMARY:Zum Heiligen Jahr: Kirche und Reich - Episoden einer Ehe
CLASS:PUBLIC
DESCRIPTION:Veranstaltung: https://www.hss.de/veranstaltungen/zum-heiligen-
 jahr-kirche-und-reich-episoden-einer-ehe-3250305606/\nMeine Veranstaltunge
 n: https://www.hss.de/meine-veranstaltungen/
DTSTAMP:20260423T201357Z
END:VEVENT
END:VCALENDAR