BEGIN:VCALENDAR
VERSION:2.0
PRODID:www.hss.de
X-PUBLISHED-TTL:P1W
BEGIN:VEVENT
UID:69e7e72dea1b8
DTSTART:20260512T160000Z
SEQUENCE:0
TRANSP:OPAQUE
DTEND:20260512T180000Z
LOCATION:HSSdigital
SUMMARY:Zum Todestag von Jim Morrison – Die provokante Seele des Rock
CLASS:PUBLIC
DESCRIPTION:Veranstaltung: https://www.hss.de/veranstaltungen/zum-todestag-
 von-jim-morrison-die-provokante-seele-des-rock-3260306302/\nMeine Veransta
 ltungen: https://www.hss.de/meine-veranstaltungen/
DTSTAMP:20260421T210758Z
END:VEVENT
END:VCALENDAR