BEGIN:VCALENDAR
VERSION:2.0
PRODID:www.hss.de
X-PUBLISHED-TTL:P1W
BEGIN:VEVENT
UID:69e82fe037197
DTSTART:20250522T120000Z
SEQUENCE:0
TRANSP:OPAQUE
DTEND:20250522T133000Z
LOCATION:HSSdigital
SUMMARY:Zusammenarbeit zwischen Generationen stärken
CLASS:PUBLIC
DESCRIPTION:Veranstaltung: https://www.hss.de/veranstaltungen/zusammenarbei
 t-zwischen-generationen-staerken-3250302841/\nMeine Veranstaltungen: https
 ://www.hss.de/meine-veranstaltungen/
DTSTAMP:20260422T021808Z
END:VEVENT
END:VCALENDAR