BEGIN:VCALENDAR
VERSION:2.0
PRODID:www.hss.de
X-PUBLISHED-TTL:P1W
BEGIN:VEVENT
UID:69e62c2660eac
DTSTART:20251209T173000Z
SEQUENCE:0
TRANSP:OPAQUE
DTEND:20251209T185000Z
LOCATION:HSSdigital
SUMMARY:Zwischen Kerzenlicht und Aufbruch - Neustart statt Stress: Gelassen
  durch die Feiertage – Klarheit für das neue Jahr 
CLASS:PUBLIC
DESCRIPTION:Veranstaltung: https://www.hss.de/veranstaltungen/zwischen-kerz
 enlicht-und-aufbruch-neustart-statt-stress-gelassen-durch-die-feiertage-kl
 arheit-fuer-das-neue-jahr-3250302895/\nMeine Veranstaltungen: https://www.
 hss.de/meine-veranstaltungen/
DTSTAMP:20260420T133742Z
END:VEVENT
END:VCALENDAR